BEGIN:VCALENDAR
VERSION:2.0
PRODID:-//Tiffany Nicholson-Smith - ECPv6.15.12.2//NONSGML v1.0//EN
CALSCALE:GREGORIAN
METHOD:PUBLISH
X-WR-CALNAME:Tiffany Nicholson-Smith
X-ORIGINAL-URL:https://tiffanynicholson-smith.com
X-WR-CALDESC:Events for Tiffany Nicholson-Smith
REFRESH-INTERVAL;VALUE=DURATION:PT1H
X-Robots-Tag:noindex
X-PUBLISHED-TTL:PT1H
BEGIN:VTIMEZONE
TZID:America/Toronto
BEGIN:DAYLIGHT
TZOFFSETFROM:-0500
TZOFFSETTO:-0400
TZNAME:EDT
DTSTART:20190310T070000
END:DAYLIGHT
BEGIN:STANDARD
TZOFFSETFROM:-0400
TZOFFSETTO:-0500
TZNAME:EST
DTSTART:20191103T060000
END:STANDARD
BEGIN:DAYLIGHT
TZOFFSETFROM:-0500
TZOFFSETTO:-0400
TZNAME:EDT
DTSTART:20200308T070000
END:DAYLIGHT
BEGIN:STANDARD
TZOFFSETFROM:-0400
TZOFFSETTO:-0500
TZNAME:EST
DTSTART:20201101T060000
END:STANDARD
BEGIN:DAYLIGHT
TZOFFSETFROM:-0500
TZOFFSETTO:-0400
TZNAME:EDT
DTSTART:20210314T070000
END:DAYLIGHT
BEGIN:STANDARD
TZOFFSETFROM:-0400
TZOFFSETTO:-0500
TZNAME:EST
DTSTART:20211107T060000
END:STANDARD
END:VTIMEZONE
BEGIN:VEVENT
DTSTART;TZID=America/Toronto:20200617T190000
DTEND;TZID=America/Toronto:20200617T210000
DTSTAMP:20260420T050232
CREATED:20200521T212152Z
LAST-MODIFIED:20200607T152451Z
UID:10000082-1592420400-1592427600@tiffanynicholson-smith.com
SUMMARY:Jyotish & Ayurveda Online Immersion
DESCRIPTION:Understanding The Medicine of the Stars! \nHave you heard about the powerful science of Jyotish (Vedic Astrology)? \nTogether\, Ram & Tiffany\, will be exploring the intersection of Astrology and Ayurveda to help you discover the powerful ways that these ancient sciences can both orient and liberate your life in various areas. \nRam brings a lifetime of infusion and a depth of understanding in Jyotish and the Vedic Sciences that is wholly unmatched\, and is truly a gift to receive. \nJoin us! \nJune 17 – July 15 \n5 Wednesdays: 7-9 pm
URL:https://tiffanynicholson-smith.com/event/jyotish-ayurveda-online-immersion/
CATEGORIES:Online Course
ATTACH;FMTTYPE=image/jpeg:https://tiffanynicholson-smith.com/wp-content/uploads/2020/05/TNS-YjotishAyurveda-copy-2.jpg
END:VEVENT
END:VCALENDAR